BEGIN:VCALENDAR
VERSION:2.0
PRODID:-//PM&amp;L Theatre - ECPv6.15.20//NONSGML v1.0//EN
CALSCALE:GREGORIAN
METHOD:PUBLISH
X-WR-CALNAME:PM&amp;L Theatre
X-ORIGINAL-URL:https://pmltheatre.com
X-WR-CALDESC:Events for PM&amp;L Theatre
REFRESH-INTERVAL;VALUE=DURATION:PT1H
X-Robots-Tag:noindex
X-PUBLISHED-TTL:PT1H
BEGIN:VTIMEZONE
TZID:America/Chicago
BEGIN:DAYLIGHT
TZOFFSETFROM:-0600
TZOFFSETTO:-0500
TZNAME:CDT
DTSTART:20200308T080000
END:DAYLIGHT
BEGIN:STANDARD
TZOFFSETFROM:-0500
TZOFFSETTO:-0600
TZNAME:CST
DTSTART:20201101T070000
END:STANDARD
BEGIN:DAYLIGHT
TZOFFSETFROM:-0600
TZOFFSETTO:-0500
TZNAME:CDT
DTSTART:20210314T080000
END:DAYLIGHT
BEGIN:STANDARD
TZOFFSETFROM:-0500
TZOFFSETTO:-0600
TZNAME:CST
DTSTART:20211107T070000
END:STANDARD
BEGIN:DAYLIGHT
TZOFFSETFROM:-0600
TZOFFSETTO:-0500
TZNAME:CDT
DTSTART:20220313T080000
END:DAYLIGHT
BEGIN:STANDARD
TZOFFSETFROM:-0500
TZOFFSETTO:-0600
TZNAME:CST
DTSTART:20221106T070000
END:STANDARD
BEGIN:DAYLIGHT
TZOFFSETFROM:-0600
TZOFFSETTO:-0500
TZNAME:CDT
DTSTART:20230312T080000
END:DAYLIGHT
BEGIN:STANDARD
TZOFFSETFROM:-0500
TZOFFSETTO:-0600
TZNAME:CST
DTSTART:20231105T070000
END:STANDARD
END:VTIMEZONE
BEGIN:VEVENT
DTSTART;TZID=America/Chicago:20220925T130000
DTEND;TZID=America/Chicago:20220925T180000
DTSTAMP:20260421T022720
CREATED:20220914T235210Z
LAST-MODIFIED:20220923T154043Z
UID:4417-1664110800-1664128800@pmltheatre.com
SUMMARY:A Christmas Story Auditions
DESCRIPTION:Audition Notes\nPlease only schedule your audition after you have completed your audition form.
URL:https://pmltheatre.com/event/a-christmas-story-auditions/
LOCATION:PM&L Theatre\, 877 Main St\, Antioch\, IL\, 60002\, United States
CATEGORIES:Adult Auditions,Youth Auditions
ATTACH;FMTTYPE=image/jpeg:https://assets.pmltheatre.com/wp-content/uploads/2022/07/26200806/christmas-story-show-card.jpg
ORGANIZER;CN="Regina Reynolds":MAILTO:mzreynolds3muse@gmail.com
END:VEVENT
BEGIN:VEVENT
DTSTART;TZID=America/Chicago:20220925T130000
DTEND;TZID=America/Chicago:20220925T180000
DTSTAMP:20260421T022720
CREATED:20220914T235210Z
LAST-MODIFIED:20220923T154043Z
UID:4417-1664110800-1664128800@pmltheatre.com
SUMMARY:A Christmas Story Auditions
DESCRIPTION:Audition Notes\nPlease only schedule your audition after you have completed your audition form.
URL:https://pmltheatre.com/event/a-christmas-story-auditions/
LOCATION:PM&L Theatre\, 877 Main St\, Antioch\, IL\, 60002\, United States
CATEGORIES:Adult Auditions,Youth Auditions
ATTACH;FMTTYPE=image/jpeg:https://assets.pmltheatre.com/wp-content/uploads/2022/07/26200806/christmas-story-show-card.jpg
ORGANIZER;CN="Regina Reynolds":MAILTO:mzreynolds3muse@gmail.com
END:VEVENT
BEGIN:VEVENT
DTSTART;TZID=America/Chicago:20220925T130000
DTEND;TZID=America/Chicago:20220925T180000
DTSTAMP:20260421T022720
CREATED:20220914T235210Z
LAST-MODIFIED:20220923T154043Z
UID:4417-1664110800-1664128800@pmltheatre.com
SUMMARY:A Christmas Story Auditions
DESCRIPTION:Audition Notes\nPlease only schedule your audition after you have completed your audition form.
URL:https://pmltheatre.com/event/a-christmas-story-auditions/
LOCATION:PM&L Theatre\, 877 Main St\, Antioch\, IL\, 60002\, United States
CATEGORIES:Adult Auditions,Youth Auditions
ATTACH;FMTTYPE=image/jpeg:https://assets.pmltheatre.com/wp-content/uploads/2022/07/26200806/christmas-story-show-card.jpg
ORGANIZER;CN="Regina Reynolds":MAILTO:mzreynolds3muse@gmail.com
END:VEVENT
BEGIN:VEVENT
DTSTART;TZID=America/Chicago:20220503T180000
DTEND;TZID=America/Chicago:20220503T210000
DTSTAMP:20260421T022720
CREATED:20220329T124035Z
LAST-MODIFIED:20220329T144033Z
UID:3553-1651600800-1651611600@pmltheatre.com
SUMMARY:Stage Struck – Little Mermaid JR. Auditions
DESCRIPTION:Audition Notes\n\nPlease only schedule your audition after you have completed your audition form.\nEach child should prepare a song from Disney’s The Little Mermaid JR\, from the set of songs provided in your audition form confirmation email\, and should be prepared to read along with one of the scene selections.\nMemorization\, while not required\, is strongly recommended.\nPlease be prepared to audition emphasizing your use of voice\, facial expressions\, and your understanding of the character and material.\nWe encourage parents or other responsible adults to talk about the audition process with their child(ren). Please make sure to set expectations: not every child will be able to receive a lead / supporting role\, but every role is crucial to the telling of the story.\nAuditions will be held in 1-hour blocks with small groups of children.\n\n\n 
URL:https://pmltheatre.com/event/stage-struck-little-mermaid-jr-auditions/
LOCATION:PM&L Theatre\, 877 Main St\, Antioch\, IL\, 60002\, United States
CATEGORIES:Youth Auditions
ATTACH;FMTTYPE=image/png:https://assets.pmltheatre.com/wp-content/uploads/2022/03/21104823/pml-stage-struck-logo-alpha.png
ORGANIZER;CN="Christi Nicholson":MAILTO:nicholson.christi@gmail.com
END:VEVENT
BEGIN:VEVENT
DTSTART;TZID=America/Chicago:20220503T180000
DTEND;TZID=America/Chicago:20220503T210000
DTSTAMP:20260421T022720
CREATED:20220329T124035Z
LAST-MODIFIED:20220329T144033Z
UID:3553-1651600800-1651611600@pmltheatre.com
SUMMARY:Stage Struck – Little Mermaid JR. Auditions
DESCRIPTION:Audition Notes\n\nPlease only schedule your audition after you have completed your audition form.\nEach child should prepare a song from Disney’s The Little Mermaid JR\, from the set of songs provided in your audition form confirmation email\, and should be prepared to read along with one of the scene selections.\nMemorization\, while not required\, is strongly recommended.\nPlease be prepared to audition emphasizing your use of voice\, facial expressions\, and your understanding of the character and material.\nWe encourage parents or other responsible adults to talk about the audition process with their child(ren). Please make sure to set expectations: not every child will be able to receive a lead / supporting role\, but every role is crucial to the telling of the story.\nAuditions will be held in 1-hour blocks with small groups of children.\n\n\n 
URL:https://pmltheatre.com/event/stage-struck-little-mermaid-jr-auditions/
LOCATION:PM&L Theatre\, 877 Main St\, Antioch\, IL\, 60002\, United States
CATEGORIES:Youth Auditions
ATTACH;FMTTYPE=image/png:https://assets.pmltheatre.com/wp-content/uploads/2022/03/21104823/pml-stage-struck-logo-alpha.png
ORGANIZER;CN="Christi Nicholson":MAILTO:nicholson.christi@gmail.com
END:VEVENT
BEGIN:VEVENT
DTSTART;TZID=America/Chicago:20210927T063000
DTEND;TZID=America/Chicago:20210927T193000
DTSTAMP:20260421T022720
CREATED:20210913T153952Z
LAST-MODIFIED:20210917T113450Z
UID:2255-1632724200-1632771000@pmltheatre.com
SUMMARY:A Christmas Carol  – Youth Auditions
DESCRIPTION:Audition Notes\n\nPlease only schedule your audition after you have completed your audition form.\nYou are scheduling an audition for a youth role.\nThere will be no more than four others in your group in addition to actors auditioning for the role of Bob Cratchit.\nAudition slots are at 15-minute increments.\nAgain\, please note PM&L’s Internal COVID Guidelines and abide by them during your audition.\nPlease enter the building no more than five minutes before your appointment to avoid close contact with others.\nPlease wait outside of the auditioning room until you are called.
URL:https://pmltheatre.com/event/a-christmas-carol-youth-auditions/
LOCATION:PM&L Theatre\, 877 Main St\, Antioch\, IL\, 60002\, United States
CATEGORIES:Auditions,Youth Auditions
ATTACH;FMTTYPE=image/jpeg:https://assets.pmltheatre.com/wp-content/uploads/2021/08/12092954/christmas-carol-show-card.jpg
ORGANIZER;CN="Casey Audrain":MAILTO:caudrain@pmltheatre.org
END:VEVENT
BEGIN:VEVENT
DTSTART;TZID=America/Chicago:20210927T063000
DTEND;TZID=America/Chicago:20210927T193000
DTSTAMP:20260421T022720
CREATED:20210913T153952Z
LAST-MODIFIED:20210917T113450Z
UID:2255-1632724200-1632771000@pmltheatre.com
SUMMARY:A Christmas Carol  – Youth Auditions
DESCRIPTION:Audition Notes\n\nPlease only schedule your audition after you have completed your audition form.\nYou are scheduling an audition for a youth role.\nThere will be no more than four others in your group in addition to actors auditioning for the role of Bob Cratchit.\nAudition slots are at 15-minute increments.\nAgain\, please note PM&L’s Internal COVID Guidelines and abide by them during your audition.\nPlease enter the building no more than five minutes before your appointment to avoid close contact with others.\nPlease wait outside of the auditioning room until you are called.
URL:https://pmltheatre.com/event/a-christmas-carol-youth-auditions/
LOCATION:PM&L Theatre\, 877 Main St\, Antioch\, IL\, 60002\, United States
CATEGORIES:Auditions,Youth Auditions
ATTACH;FMTTYPE=image/jpeg:https://assets.pmltheatre.com/wp-content/uploads/2021/08/12092954/christmas-carol-show-card.jpg
ORGANIZER;CN="Casey Audrain":MAILTO:caudrain@pmltheatre.org
END:VEVENT
END:VCALENDAR